BEGIN:VCALENDAR
VERSION:2.0
PRODID:-//BOSTON MAKERS - ECPv6.15.10//NONSGML v1.0//EN
CALSCALE:GREGORIAN
METHOD:PUBLISH
X-ORIGINAL-URL:https://www.bostonmakers.org
X-WR-CALDESC:Events for BOSTON MAKERS
REFRESH-INTERVAL;VALUE=DURATION:PT1H
X-Robots-Tag:noindex
X-PUBLISHED-TTL:PT1H
BEGIN:VTIMEZONE
TZID:America/New_York
BEGIN:DAYLIGHT
TZOFFSETFROM:-0500
TZOFFSETTO:-0400
TZNAME:EDT
DTSTART:20120311T070000
END:DAYLIGHT
BEGIN:STANDARD
TZOFFSETFROM:-0400
TZOFFSETTO:-0500
TZNAME:EST
DTSTART:20121104T060000
END:STANDARD
BEGIN:DAYLIGHT
TZOFFSETFROM:-0500
TZOFFSETTO:-0400
TZNAME:EDT
DTSTART:20130310T070000
END:DAYLIGHT
BEGIN:STANDARD
TZOFFSETFROM:-0400
TZOFFSETTO:-0500
TZNAME:EST
DTSTART:20131103T060000
END:STANDARD
BEGIN:DAYLIGHT
TZOFFSETFROM:-0500
TZOFFSETTO:-0400
TZNAME:EDT
DTSTART:20140309T070000
END:DAYLIGHT
BEGIN:STANDARD
TZOFFSETFROM:-0400
TZOFFSETTO:-0500
TZNAME:EST
DTSTART:20141102T060000
END:STANDARD
BEGIN:DAYLIGHT
TZOFFSETFROM:-0500
TZOFFSETTO:-0400
TZNAME:EDT
DTSTART:20150308T070000
END:DAYLIGHT
BEGIN:STANDARD
TZOFFSETFROM:-0400
TZOFFSETTO:-0500
TZNAME:EST
DTSTART:20151101T060000
END:STANDARD
BEGIN:DAYLIGHT
TZOFFSETFROM:-0500
TZOFFSETTO:-0400
TZNAME:EDT
DTSTART:20160313T070000
END:DAYLIGHT
BEGIN:STANDARD
TZOFFSETFROM:-0400
TZOFFSETTO:-0500
TZNAME:EST
DTSTART:20161106T060000
END:STANDARD
BEGIN:DAYLIGHT
TZOFFSETFROM:-0500
TZOFFSETTO:-0400
TZNAME:EDT
DTSTART:20170312T070000
END:DAYLIGHT
BEGIN:STANDARD
TZOFFSETFROM:-0400
TZOFFSETTO:-0500
TZNAME:EST
DTSTART:20171105T060000
END:STANDARD
BEGIN:DAYLIGHT
TZOFFSETFROM:-0500
TZOFFSETTO:-0400
TZNAME:EDT
DTSTART:20180311T070000
END:DAYLIGHT
BEGIN:STANDARD
TZOFFSETFROM:-0400
TZOFFSETTO:-0500
TZNAME:EST
DTSTART:20181104T060000
END:STANDARD
BEGIN:DAYLIGHT
TZOFFSETFROM:-0500
TZOFFSETTO:-0400
TZNAME:EDT
DTSTART:20190310T070000
END:DAYLIGHT
BEGIN:STANDARD
TZOFFSETFROM:-0400
TZOFFSETTO:-0500
TZNAME:EST
DTSTART:20191103T060000
END:STANDARD
BEGIN:DAYLIGHT
TZOFFSETFROM:-0500
TZOFFSETTO:-0400
TZNAME:EDT
DTSTART:20200308T070000
END:DAYLIGHT
BEGIN:STANDARD
TZOFFSETFROM:-0400
TZOFFSETTO:-0500
TZNAME:EST
DTSTART:20201101T060000
END:STANDARD
BEGIN:DAYLIGHT
TZOFFSETFROM:-0500
TZOFFSETTO:-0400
TZNAME:EDT
DTSTART:20210314T070000
END:DAYLIGHT
BEGIN:STANDARD
TZOFFSETFROM:-0400
TZOFFSETTO:-0500
TZNAME:EST
DTSTART:20211107T060000
END:STANDARD
BEGIN:DAYLIGHT
TZOFFSETFROM:-0500
TZOFFSETTO:-0400
TZNAME:EDT
DTSTART:20220313T070000
END:DAYLIGHT
BEGIN:STANDARD
TZOFFSETFROM:-0400
TZOFFSETTO:-0500
TZNAME:EST
DTSTART:20221106T060000
END:STANDARD
END:VTIMEZONE
BEGIN:VTIMEZONE
TZID:America/New_York
BEGIN:DAYLIGHT
TZOFFSETFROM:-0500
TZOFFSETTO:-0400
TZNAME:EDT
DTSTART:20130310T070000
END:DAYLIGHT
BEGIN:STANDARD
TZOFFSETFROM:-0400
TZOFFSETTO:-0500
TZNAME:EST
DTSTART:20131103T060000
END:STANDARD
BEGIN:DAYLIGHT
TZOFFSETFROM:-0500
TZOFFSETTO:-0400
TZNAME:EDT
DTSTART:20140309T070000
END:DAYLIGHT
BEGIN:STANDARD
TZOFFSETFROM:-0400
TZOFFSETTO:-0500
TZNAME:EST
DTSTART:20141102T060000
END:STANDARD
BEGIN:DAYLIGHT
TZOFFSETFROM:-0500
TZOFFSETTO:-0400
TZNAME:EDT
DTSTART:20150308T070000
END:DAYLIGHT
BEGIN:STANDARD
TZOFFSETFROM:-0400
TZOFFSETTO:-0500
TZNAME:EST
DTSTART:20151101T060000
END:STANDARD
BEGIN:DAYLIGHT
TZOFFSETFROM:-0500
TZOFFSETTO:-0400
TZNAME:EDT
DTSTART:20160313T070000
END:DAYLIGHT
BEGIN:STANDARD
TZOFFSETFROM:-0400
TZOFFSETTO:-0500
TZNAME:EST
DTSTART:20161106T060000
END:STANDARD
BEGIN:DAYLIGHT
TZOFFSETFROM:-0500
TZOFFSETTO:-0400
TZNAME:EDT
DTSTART:20170312T070000
END:DAYLIGHT
BEGIN:STANDARD
TZOFFSETFROM:-0400
TZOFFSETTO:-0500
TZNAME:EST
DTSTART:20171105T060000
END:STANDARD
END:VTIMEZONE
BEGIN:VEVENT
DTSTART;TZID=America/New_York:20210429T190000
DTEND;TZID=America/New_York:20210429T210000
DTSTAMP:20260423T093840
CREATED:20210427T171058Z
LAST-MODIFIED:20210427T171058Z
UID:7253-1619722800-1619730000@www.bostonmakers.org
SUMMARY:Entrepreneurs Meet Up
DESCRIPTION:We’re looking for ways to support entrepreneurs and small-scale business at Boston Makers. Perhaps it’s setting up a photo booth to professionally photograph your projects\, setting up an Etsy shop or online store\, attending more craft fairs\, teaching classes on website development\, social media mastery\, or taxes. Let’s talk about what this club can do and how Boston Makers can support it. \nCost: Free! \nDrop-ins welcome \nContact darien@bostonmakers.org with questions
URL:https://www.bostonmakers.org/event/entrepreneurs-meet-up-5/
LOCATION:Online\, MA\, United States
CATEGORIES:UPCOMING MEETINGS,UPCOMING PUBLIC MEETINGS
END:VEVENT
BEGIN:VEVENT
DTSTART;TZID=America/New_York:20210420T190000
DTEND;TZID=America/New_York:20210420T210000
DTSTAMP:20260423T093840
CREATED:20210427T170021Z
LAST-MODIFIED:20210427T170021Z
UID:7245-1618945200-1618952400@www.bostonmakers.org
SUMMARY:Members Night!
DESCRIPTION:
URL:https://www.bostonmakers.org/event/members-night-6/
LOCATION:Online\, MA\, United States
CATEGORIES:UPCOMING MEETINGS,UPCOMING PUBLIC MEETINGS
END:VEVENT
BEGIN:VEVENT
DTSTART;TZID=America/New_York:20210323T190000
DTEND;TZID=America/New_York:20210323T210000
DTSTAMP:20260423T093840
CREATED:20210427T165929Z
LAST-MODIFIED:20210427T165942Z
UID:7243-1616526000-1616533200@www.bostonmakers.org
SUMMARY:Members Night!
DESCRIPTION:
URL:https://www.bostonmakers.org/event/members-night-5/
LOCATION:Online\, MA\, United States
CATEGORIES:UPCOMING MEETINGS,UPCOMING PUBLIC MEETINGS
END:VEVENT
BEGIN:VEVENT
DTSTART;TZID=America/New_York:20210311T190000
DTEND;TZID=America/New_York:20210311T210000
DTSTAMP:20260423T093840
CREATED:20210427T170942Z
LAST-MODIFIED:20210427T170942Z
UID:7251-1615489200-1615496400@www.bostonmakers.org
SUMMARY:Entrepreneurs Meet Up
DESCRIPTION:We’re looking for ways to support entrepreneurs and small-scale business at Boston Makers. Perhaps it’s setting up a photo booth to professionally photograph your projects\, setting up an Etsy shop or online store\, attending more craft fairs\, teaching classes on website development\, social media mastery\, or taxes. Let’s talk about what this club can do and how Boston Makers can support it. \nCost: Free! \nDrop-ins welcome \nContact darien@bostonmakers.org with questions
URL:https://www.bostonmakers.org/event/entrepreneurs-meet-up-4/
LOCATION:Online\, MA\, United States
CATEGORIES:UPCOMING MEETINGS,UPCOMING PUBLIC MEETINGS
END:VEVENT
BEGIN:VEVENT
DTSTART;TZID=America/New_York:20210223T190000
DTEND;TZID=America/New_York:20210223T210000
DTSTAMP:20260423T093840
CREATED:20210427T165811Z
LAST-MODIFIED:20210427T170226Z
UID:7241-1614106800-1614114000@www.bostonmakers.org
SUMMARY:Members Night!
DESCRIPTION:
URL:https://www.bostonmakers.org/event/members-night-4/
LOCATION:Online\, MA\, United States
CATEGORIES:UPCOMING MEETINGS,UPCOMING PUBLIC MEETINGS
END:VEVENT
BEGIN:VEVENT
DTSTART;TZID=America/New_York:20210127T190000
DTEND;TZID=America/New_York:20210127T210000
DTSTAMP:20260423T093840
CREATED:20210427T165530Z
LAST-MODIFIED:20210427T165530Z
UID:7239-1611774000-1611781200@www.bostonmakers.org
SUMMARY:Members Night!
DESCRIPTION:
URL:https://www.bostonmakers.org/event/members-night-3/
LOCATION:Online\, MA\, United States
CATEGORIES:UPCOMING MEETINGS,UPCOMING PUBLIC MEETINGS
END:VEVENT
BEGIN:VEVENT
DTSTART;TZID=America/New_York:20210114T190000
DTEND;TZID=America/New_York:20210114T210000
DTSTAMP:20260423T093840
CREATED:20210427T170707Z
LAST-MODIFIED:20210427T170707Z
UID:7249-1610650800-1610658000@www.bostonmakers.org
SUMMARY:Entrepreneurs Meet Up
DESCRIPTION:We’re looking for ways to support entrepreneurs and small-scale business at Boston Makers. Perhaps it’s setting up a photo booth to professionally photograph your projects\, setting up an Etsy shop or online store\, attending more craft fairs\, teaching classes on website development\, social media mastery\, or taxes. Let’s talk about what this club can do and how Boston Makers can support it. \nCost: Free! \nDrop-ins welcome \nContact darien@bostonmakers.org with questions
URL:https://www.bostonmakers.org/event/entrepreneurs-meet-up-3/
LOCATION:Online\, MA\, United States
CATEGORIES:UPCOMING MEETINGS,UPCOMING PUBLIC MEETINGS
END:VEVENT
BEGIN:VEVENT
DTSTART;TZID=America/New_York:20201216T190000
DTEND;TZID=America/New_York:20201216T210000
DTSTAMP:20260423T093840
CREATED:20190313T001926Z
LAST-MODIFIED:20210427T163120Z
UID:6555-1608145200-1608152400@www.bostonmakers.org
SUMMARY:Virtual Holiday Party!
DESCRIPTION:
URL:https://www.bostonmakers.org/event/holiday-party-2020-12-16/
LOCATION:Online\, MA\, United States
CATEGORIES:UPCOMING MEETINGS,UPCOMING PUBLIC MEETINGS
END:VEVENT
BEGIN:VEVENT
DTSTART;TZID=America/New_York:20201104T190000
DTEND;TZID=America/New_York:20201104T210000
DTSTAMP:20260423T093840
CREATED:20190313T001926Z
LAST-MODIFIED:20210427T163251Z
UID:6554-1604516400-1604523600@www.bostonmakers.org
SUMMARY:Members Night!
DESCRIPTION:
URL:https://www.bostonmakers.org/event/members-night-2-2020-11-4/
LOCATION:Online\, MA\, United States
CATEGORIES:UPCOMING MEETINGS,UPCOMING PUBLIC MEETINGS
END:VEVENT
BEGIN:VEVENT
DTSTART;TZID=America/New_York:20200930T190000
DTEND;TZID=America/New_York:20200930T210000
DTSTAMP:20260423T093840
CREATED:20190313T001926Z
LAST-MODIFIED:20210427T163458Z
UID:6552-1601492400-1601499600@www.bostonmakers.org
SUMMARY:Members Night!
DESCRIPTION:
URL:https://www.bostonmakers.org/event/members-night-2-2020-09-30/
LOCATION:Online\, MA\, United States
CATEGORIES:UPCOMING MEETINGS,UPCOMING PUBLIC MEETINGS
END:VEVENT
BEGIN:VEVENT
DTSTART;TZID=America/New_York:20191224T190000
DTEND;TZID=America/New_York:20191224T203000
DTSTAMP:20260423T093840
CREATED:20180728T145030Z
LAST-MODIFIED:20191218T002747Z
UID:5200-1577214000-1577219400@www.bostonmakers.org
SUMMARY:CANCELLED - Visitor's Time
DESCRIPTION:Are you curious about our makerspace and want to check it out or chat with a member? Come to one of our regularly scheduled tours!
URL:https://www.bostonmakers.org/event/visitors-2019-12-24/
LOCATION:105 South Huntington Avenue (NAICOB)\, 105 South Huntington Ave\, Boston\, MA\, 02130\, United States
CATEGORIES:UPCOMING MEETINGS
END:VEVENT
BEGIN:VEVENT
DTSTART;TZID=America/New_York:20191210T200000
DTEND;TZID=America/New_York:20191210T210000
DTSTAMP:20260423T093840
CREATED:20180728T145030Z
LAST-MODIFIED:20191210T161402Z
UID:6404-1576008000-1576011600@www.bostonmakers.org
SUMMARY:CANCELLED Visitor's Time
DESCRIPTION:Apologies to all of our curious neighbors and soon-to-be friends\, but visiting hours for Dec. 10\, 2019 are canceled.  We hope to see you instead next next week!
URL:https://www.bostonmakers.org/event/visitors-2019-12-10/
LOCATION:105 South Huntington Avenue (NAICOB)\, 105 South Huntington Ave\, Boston\, MA\, 02130\, United States
CATEGORIES:UPCOMING MEETINGS
END:VEVENT
BEGIN:VEVENT
DTSTART;TZID=America/New_York:20190515T190000
DTEND;TZID=America/New_York:20190515T190000
DTSTAMP:20260423T093840
CREATED:20190313T001926Z
LAST-MODIFIED:20190514T223301Z
UID:6365-1557946800-1557946800@www.bostonmakers.org
SUMMARY:Members Night!
DESCRIPTION:This week we are going to push members night to Wednesday and go to Turtle Swamp @ 7pm to celebrate and have a send off for one our board members. Everyone is welcome. Hope to see you there! \n 
URL:https://www.bostonmakers.org/event/members-night-2-2019-05-14/
LOCATION:Turtle Swamp Brewery\, 3377 Washington Street\, Jamaica Plain\, MA\, 02130\, United States
CATEGORIES:UPCOMING MEETINGS,UPCOMING PUBLIC MEETINGS
END:VEVENT
BEGIN:VEVENT
DTSTART;TZID=America/New_York:20190312T190000
DTEND;TZID=America/New_York:20190312T210000
DTSTAMP:20260423T093840
CREATED:20190313T001926Z
LAST-MODIFIED:20190628T011641Z
UID:6332-1552417200-1552424400@www.bostonmakers.org
SUMMARY:Members Night!
DESCRIPTION:
URL:https://www.bostonmakers.org/event/members-night-2/
LOCATION:105 South Huntington Ave.\, 105 South Huntington Ave\, Boston\, MA\, 02130\, United States
CATEGORIES:UPCOMING MEETINGS,UPCOMING PUBLIC MEETINGS
END:VEVENT
BEGIN:VEVENT
DTSTART;TZID=America/New_York:20180729T100000
DTEND;TZID=America/New_York:20180729T120000
DTSTAMP:20260423T093840
CREATED:20180728T145030Z
LAST-MODIFIED:20190315T183227Z
UID:5050-1532858400-1532865600@www.bostonmakers.org
SUMMARY:Visitor's Time
DESCRIPTION:Are you curious about our makerspace and want to check it out or chat with a member? Come to one of our regularly scheduled tours!
URL:https://www.bostonmakers.org/event/visitors/
LOCATION:105 South Huntington Avenue (NAICOB)\, 105 South Huntington Ave\, Boston\, MA\, 02130\, United States
CATEGORIES:UPCOMING MEETINGS
END:VEVENT
BEGIN:VEVENT
DTSTART;TZID=America/New_York:20160621T190000
DTEND;TZID=America/New_York:20160621T210000
DTSTAMP:20260423T093840
CREATED:20160424T121608Z
LAST-MODIFIED:20170430T224608Z
UID:2754-1466535600-1466542800@www.bostonmakers.org
SUMMARY:Get Involved: Volunteer Orientation at Boston Makers
DESCRIPTION:We’ve heard from so many people wanting to volunteer and help Boston Makers grow. Finally\, we’re offering a volunteer orientation to give you an opportunity to help out\, learn the various machines\, teach classes\, and more. Join us every third Tuesday of the month\, 7-9 p.m.\, at our space at 3201 Washington Street. We’ll provide water and light snacks while we explain all the ways you can contribute. Questions? Email contact@bostonmakers.org \nThis will be an in-depth discussion with powerful equipment in use\, so please\, no kids.
URL:https://www.bostonmakers.org/event/volunteer-orientation/
LOCATION:CityPOP\, 3201 Washington Street\, Boston\, MA\, 02130\, United States
CATEGORIES:CALL FOR PARTICIPATION,CLASSES + WORKSHOPS,EVENTS,UPCOMING MEETINGS
END:VEVENT
BEGIN:VEVENT
DTSTART;TZID=America/New_York:20160614T190000
DTEND;TZID=America/New_York:20160614T210000
DTSTAMP:20260423T093840
CREATED:20160614T184317Z
LAST-MODIFIED:20160614T184501Z
UID:2880-1465930800-1465938000@www.bostonmakers.org
SUMMARY:Committee Night
DESCRIPTION:Whether you’re interested in databases\, plumbing\, or social media\, Boston Makers has a volunteer opportunity for you. Join us every second Tuesday of the month from 7-9 p.m. to help with committee tasks. As of June 2016\, these include: \n\nspace fixes\, installing a sink\, doing inventory of all our new and donated equipment\, organizing to make the space more usable for all\nhelping us reinstall CiviCRM to track donations and set up class registrations\nsocial media and website updates–everything from updating plugins to editing photos and scheduling posts on Facebook and Twitter.\nTBD (there’s always work to do in a makerspace!)\n\nWe require all regular volunteers to attend a Volunteer Orientation. No RSVP is necessary for orientation or committee meetings\, and all (ages 18 and up) are welcome!
URL:https://www.bostonmakers.org/event/committee-night/
LOCATION:CityPOP\, 3201 Washington Street\, Boston\, MA\, 02130\, United States
CATEGORIES:CALL FOR PARTICIPATION,UPCOMING COMMITTEE MEETINGS,UPCOMING MEETINGS
END:VEVENT
BEGIN:VEVENT
DTSTART;TZID=America/New_York:20160524T190000
DTEND;TZID=America/New_York:20160524T210000
DTSTAMP:20260423T093840
CREATED:20160424T121257Z
LAST-MODIFIED:20160424T121934Z
UID:2753-1464116400-1464123600@www.bostonmakers.org
SUMMARY:Get Involved: Volunteer Orientation at Boston Makers
DESCRIPTION:We’ve heard from so many people wanting to volunteer and help Boston Makers grow. Finally\, we’re offering a volunteer orientation to give you an opportunity to help out\, learn the various machines\, teach classes\, and more. Join us on Tuesday\, May 24\, 7-9 p.m.\, at our space at 3201 Washington Street. We’ll provide water and light snacks while we explain all the ways you can contribute. Questions? Email contact@bostonmakers.org \nThis will be an in-depth discussion with powerful equipment in use\, so please\, no kids. \nCan’t make May 24? Volunteer orientations will occur every third Tuesday of the month starting in June.
URL:https://www.bostonmakers.org/event/get-involved-volunteer-orientation-at-boston-makers/
LOCATION:CityPOP\, 3201 Washington Street\, Boston\, MA\, 02130\, United States
CATEGORIES:CALL FOR PARTICIPATION,CLASSES + WORKSHOPS,EVENTS,UPCOMING MEETINGS
END:VEVENT
BEGIN:VEVENT
DTSTART;TZID=America/New_York:20151201T190000
DTEND;TZID=America/New_York:20151201T210000
DTSTAMP:20260423T093840
CREATED:20141004T214957Z
LAST-MODIFIED:20151217T021107Z
UID:1256-1448996400-1449003600@www.bostonmakers.org
SUMMARY:Monthly Public Meeting
DESCRIPTION:Want to learn more about Boston Makers? Want to gain volunteer experience? Join us for our monthly public meeting on the first Tuesday of every month.
URL:https://www.bostonmakers.org/event/public-meeting-2015-12-01/
LOCATION:HSTF Cheverus Building\, 361 Centre Street\, Jamaica Plain\, MA\, 02130\, United States
CATEGORIES:UPCOMING MEETINGS
ATTACH;FMTTYPE=image/jpeg:https://www.bostonmakers.org/wp-content/uploads/2014/10/Boston-Makers-temp-logo.jpg
END:VEVENT
BEGIN:VEVENT
DTSTART;TZID=America/New_York:20150310T190000
DTEND;TZID=America/New_York:20150310T210000
DTSTAMP:20260423T093840
CREATED:20150226T151604Z
LAST-MODIFIED:20151008T132110Z
UID:1759-1426014000-1426021200@www.bostonmakers.org
SUMMARY:Monthly Public Meeting
DESCRIPTION:NOTE: This is a rescheduled meeting from the 3rd March.
URL:https://www.bostonmakers.org/event/monthly-board-meeting/
LOCATION:HSTF Cheverus Building\, 361 Centre Street\, Jamaica Plain\, MA\, 02130\, United States
CATEGORIES:UPCOMING BOARD MEETINGS,UPCOMING MEETINGS
ATTACH;FMTTYPE=image/jpeg:https://www.bostonmakers.org/wp-content/uploads/2014/10/Boston-Makers-temp-logo.jpg
END:VEVENT
BEGIN:VEVENT
DTSTART;TZID=America/New_York:20150303T190000
DTEND;TZID=America/New_York:20150303T210000
DTSTAMP:20260423T093840
CREATED:20141004T214957Z
LAST-MODIFIED:20151008T132028Z
UID:1247-1425409200-1425416400@www.bostonmakers.org
SUMMARY:Monthly Public Meeting
DESCRIPTION:RESCHEDULED!  This meeting has been rescheduled to the 10th March 2015.
URL:https://www.bostonmakers.org/event/board-meeting-december-2014-2015-03-03/
LOCATION:HSTF Cheverus Building\, 361 Centre Street\, Jamaica Plain\, MA\, 02130\, United States
CATEGORIES:UPCOMING BOARD MEETINGS,UPCOMING MEETINGS
ATTACH;FMTTYPE=image/jpeg:https://www.bostonmakers.org/wp-content/uploads/2015/02/Boston-Makers_LOGO-bwHSTF-RESCHEDULED.jpg
END:VEVENT
BEGIN:VEVENT
DTSTART;TZID=America/New_York:20141209T190000
DTEND;TZID=America/New_York:20141209T210000
DTSTAMP:20260423T093840
CREATED:20141004T214957Z
LAST-MODIFIED:20160504T095609Z
UID:943-1418151600-1418158800@www.bostonmakers.org
SUMMARY:Monthly Public Meeting
DESCRIPTION:Want to learn more about Boston Makers? Want to gain volunteer experience? Join us for our monthly public meeting on the first Tuesday of every month.
URL:https://www.bostonmakers.org/event/public-meeting/
LOCATION:HSTF Cheverus Building\, 361 Centre Street\, Jamaica Plain\, MA\, 02130\, United States
CATEGORIES:UPCOMING MEETINGS
ATTACH;FMTTYPE=image/jpeg:https://www.bostonmakers.org/wp-content/uploads/2014/10/Boston-Makers-temp-logo.jpg
END:VEVENT
BEGIN:VEVENT
DTSTART;TZID=America/New_York:20141104T190000
DTEND;TZID=America/New_York:20141104T210000
DTSTAMP:20260423T093840
CREATED:20141004T214832Z
LAST-MODIFIED:20151008T132035Z
UID:942-1415127600-1415134800@www.bostonmakers.org
SUMMARY:Board Meeting - November 2014
DESCRIPTION:Join us for our monthly board meeting the first Tuesday of every month.
URL:https://www.bostonmakers.org/event/board-meeting-november-2014/
LOCATION:HSTF Cheverus Building\, 361 Centre Street\, Jamaica Plain\, MA\, 02130\, United States
CATEGORIES:UPCOMING BOARD MEETINGS
END:VEVENT
BEGIN:VEVENT
DTSTART;TZID=America/New_York:20141007T190000
DTEND;TZID=America/New_York:20141007T210000
DTSTAMP:20260423T093840
CREATED:20141004T214628Z
LAST-MODIFIED:20151008T132045Z
UID:941-1412708400-1412715600@www.bostonmakers.org
SUMMARY:Board Meeting - October 2014
DESCRIPTION:Join us for our Monthly Board Meeting.
URL:https://www.bostonmakers.org/event/board-meeting-october-2014/
LOCATION:HSTF Cheverus Building\, 361 Centre Street\, Jamaica Plain\, MA\, 02130\, United States
CATEGORIES:UPCOMING BOARD MEETINGS
END:VEVENT
BEGIN:VEVENT
DTSTART;TZID=America/New_York:20140309T190000
DTEND;TZID=America/New_York:20140309T210000
DTSTAMP:20260423T093840
CREATED:20140301T235129Z
LAST-MODIFIED:20150111T052446Z
UID:1428-1394391600-1394398800@www.bostonmakers.org
SUMMARY:March Maker MeetUp
DESCRIPTION:Join us for our March Makers Meetup\, Sunday Night\, 3/9/14\, from 7 to 9 PM at the Eliot School in JP. \nSign up on using our meetup page. \n 
URL:https://www.bostonmakers.org/event/march-maker-meetup/
LOCATION:Eliot School of Fine and Applied Arts\, 24 Eliot Street\, Jamaica Plain\, MA\, 02130\, United States
CATEGORIES:EVENTS,MEETUP,UPCOMING PUBLIC MEETINGS
ATTACH;FMTTYPE=image/jpeg:https://www.bostonmakers.org/wp-content/uploads/2014/03/download.jpeg
END:VEVENT
BEGIN:VEVENT
DTSTART;TZID=America/New_York:20131205T180000
DTEND;TZID=America/New_York:20131205T200000
DTSTAMP:20260423T093840
CREATED:20131001T221853Z
LAST-MODIFIED:20150104T233103Z
UID:1417-1386266400-1386273600@www.bostonmakers.org
SUMMARY:December Community Meeting - Hyde Park
DESCRIPTION:Come and join us in Hyde Park this week! We are continuing to meet with the local neighborhoods and sound out ideas about creating a makerspace\, and would love to hear your thoughts. We will have updates from our committees on areas such as finding a space\, forming a company and naming ourselves. Hope to see you there! \n 
URL:https://www.bostonmakers.org/event/december-community-meeting-hyde-park/
LOCATION:Hyde Park Branch Library [Menino Hall]\, 35 Harvard Avenue\, Hyde Park\, MA\, 02136\, United States
CATEGORIES:UPCOMING MEETINGS,UPCOMING PUBLIC MEETINGS
END:VEVENT
BEGIN:VEVENT
DTSTART;TZID=America/New_York:20131109T130000
DTEND;TZID=America/New_York:20131109T160000
DTSTAMP:20260423T093840
CREATED:20131001T221036Z
LAST-MODIFIED:20150104T232458Z
UID:1414-1384002000-1384012800@www.bostonmakers.org
SUMMARY:November Community Meeting - West Roxbury
DESCRIPTION:Hot on the heels of our previous two meetings in Jamaica Plain and Roslindale\, we’re hosting a longer weekend meeting at the West Roxbury Public Library (directions) from 1PM to 4PM\, this coming Saturday\, November 9th! \nWe’re looking forward to providing some updates\, welcoming faces familiar and new\, hearing about you\, and the headlining agenda item: naming ideas. We’re saving a block of time for general discussion\, and may adjourn to elsewhere for more socializing post-meeting. \n 
URL:https://www.bostonmakers.org/event/november-community-meeting-west-roxbury/
LOCATION:West Roxbury Library\, 1961 Center Street\, West Roxbury\, MA\, 02132\, United States
CATEGORIES:UPCOMING MEETINGS,UPCOMING PUBLIC MEETINGS
END:VEVENT
BEGIN:VEVENT
DTSTART;TZID=America/New_York:20131003T180000
DTEND;TZID=America/New_York:20131004T200000
DTSTAMP:20260423T093840
CREATED:20131001T222535Z
LAST-MODIFIED:20150104T232956Z
UID:1421-1380823200-1380916800@www.bostonmakers.org
SUMMARY:October Community Meeting - Roslindale
DESCRIPTION:We are holding community meetings/socials the first week of each month in different neighborhoods. Hope you can join us!
URL:https://www.bostonmakers.org/event/october-community-meeting-roslindale/
LOCATION:Roslindale Public Library\, 4246 Washington St.\, Roslindale\, MA\, 02131\, United States
CATEGORIES:UPCOMING MEETINGS,UPCOMING PUBLIC MEETINGS
END:VEVENT
BEGIN:VEVENT
DTSTART;TZID=America/New_York:20130912T180000
DTEND;TZID=America/New_York:20130912T200000
DTSTAMP:20260423T093840
CREATED:20130905T171232Z
LAST-MODIFIED:20150104T230837Z
UID:1411-1379008800-1379016000@www.bostonmakers.org
SUMMARY:Meeting at Sedgwick Library
DESCRIPTION:Our first community meeting/social will be at the Sedgwick Library in JP on Thursday Sept. 12th from 6:00 PM to 8:00 PM. Hope you can join us! \nWe’re interested in creating a JP makerspace consistent with the ideals and philosophy of the maker culture but one that also complements the unique art inclinations of Jamaica Plain.  We’re thinking about a space that will encourage and promote the exploration of DIY technology\, nurture a collaborative community of makers\, host unique events and classes\, provide workshop space for rent\, and access to well maintained equipment such as 3D printers\, small scale fabrication\, CNC machines and other cool tools.
URL:https://www.bostonmakers.org/event/meeting-at-sedgwick-library/
LOCATION:Sedgwick Library\, 12 Sedgwick Street\, Jamaica Plain\, MA\, 02130
CATEGORIES:UPCOMING MEETINGS,UPCOMING PUBLIC MEETINGS
END:VEVENT
END:VCALENDAR